BEGIN:VCALENDAR
VERSION:2.0
PRODID:-//Mid-America College of Funeral Service - ECPv6.15.20//NONSGML v1.0//EN
CALSCALE:GREGORIAN
METHOD:PUBLISH
X-ORIGINAL-URL:https://mid-america.edu
X-WR-CALDESC:Events for Mid-America College of Funeral Service
REFRESH-INTERVAL;VALUE=DURATION:PT1H
X-Robots-Tag:noindex
X-PUBLISHED-TTL:PT1H
BEGIN:VTIMEZONE
TZID:America/Chicago
BEGIN:DAYLIGHT
TZOFFSETFROM:-0600
TZOFFSETTO:-0500
TZNAME:CDT
DTSTART:20240310T080000
END:DAYLIGHT
BEGIN:STANDARD
TZOFFSETFROM:-0500
TZOFFSETTO:-0600
TZNAME:CST
DTSTART:20241103T070000
END:STANDARD
BEGIN:DAYLIGHT
TZOFFSETFROM:-0600
TZOFFSETTO:-0500
TZNAME:CDT
DTSTART:20250309T080000
END:DAYLIGHT
BEGIN:STANDARD
TZOFFSETFROM:-0500
TZOFFSETTO:-0600
TZNAME:CST
DTSTART:20251102T070000
END:STANDARD
BEGIN:DAYLIGHT
TZOFFSETFROM:-0600
TZOFFSETTO:-0500
TZNAME:CDT
DTSTART:20260308T080000
END:DAYLIGHT
BEGIN:STANDARD
TZOFFSETFROM:-0500
TZOFFSETTO:-0600
TZNAME:CST
DTSTART:20261101T070000
END:STANDARD
END:VTIMEZONE
BEGIN:VEVENT
DTSTART;VALUE=DATE:20250801
DTEND;VALUE=DATE:20250802
DTSTAMP:20260424T083944
CREATED:20250114T152522Z
LAST-MODIFIED:20250114T152522Z
UID:10000145-1754006400-1754092799@mid-america.edu
SUMMARY:Second Installment of TIP Due
DESCRIPTION:
URL:https://mid-america.edu/event/second-installment-of-tip-due-3/
CATEGORIES:Academic Calendar
END:VEVENT
BEGIN:VEVENT
DTSTART;VALUE=DATE:20250809
DTEND;VALUE=DATE:20250810
DTSTAMP:20260424T083944
CREATED:20250114T162600Z
LAST-MODIFIED:20250718T172552Z
UID:10000147-1754697600-1754783999@mid-america.edu
SUMMARY:Open House on Campus
DESCRIPTION:Mid-America College of Funeral Service will be hosting a IN-PERSON open house August 9th 10AM-12PM EST.\nThis open house is for anyone interested in starting their education in funeral service. We will start with a tour of the campus at exactly 10AM so please arrive early! After the tour\, we will then have a mock class in our embalming lab given by our president Mr. David Hess. After the mock class we will break into a more “open house setting” so if you have any questions this will be the perfect time to ask! We will have people from other departments here as well to help you answer any questions you may have. We will also have snacks and beverages so come hungry! \nPlease click here to RSVP
URL:https://mid-america.edu/event/open-house-on-campus-3/
CATEGORIES:Academic Calendar,Open House
END:VEVENT
END:VCALENDAR